Workbook

Sheet PostTransSettings
A1: Consolidated XL Test 1 (UK-2026-01) | B1: 1 | C1: Txt: CompanyName
B4: 1 | C4: Txt: MultiPost Comp list
B5: 1 | C5: Txt: MultiPost Post List
A6: X | B6: 1 | C6: Txt: FirstTime
A7: 2-Search by Name match | B7: 1 | C7: Txt: Contact Search
A12: 10000 | B12: 2 | C12: Num: Max Transaction rows
A13: 0a0e13bc-fe0e-40cc-99b2-bfc42bcd846d | B13: 1 | C13: Txt: CompanyPATH
A14: CONS01 | B14: 1 | C14: Txt: CompanyCode
A23: TRUE | B23: 3 | C23: Chk: Write Company name into Name
A24: TRUE | B24: 3 | C24: Chk: else Write Company name into AttentionTo
A26: 30 | B26: 2 | C26: Num: Data starts at row

Sheet Single Simple
B2: Transaction Type: | C2: SI, Sales Invoice | E2: Comp Name DBL: | F2: Bayside Club | H2: AttentionTo: | I2: Club Secretary | J2: <-- Read Only Contact | N2: Status: | O2: DRAFT
B3: Date: | C3: =TODAY() -> 46036 | E3: e-Name: | F3: bob.partridge@bayclub.co | H3: Add: | I3: 148 Bay Harbour Road | K3: Set in [Setup] defaults | N3: Def Sales Acc: | O3: 200, Sales
B4: Contact DBL: | C4: Bayside Club | H4: Add: | N4: Def Purchase Acc: | O4: 300, Purchases
B5: Ref: | E5: Outstanding: | F5: 3432 | H5: Add:
E6: Overdue | F6: 3432 | H6: Add: | N6: Contact ID: | O6: 362819c9-f285-4d09-ac95-26327863adac
H7: City: | I7: Ridge Heights | N7: Contact No:
H8: Region: | I8: Madeupville | N8: Acc Code:
H9: Postcode: | I9: MA12 VL9 | N9: Post Ref: | O9: INV-0076
H10: Country: | I10: United Kingdom | N10: Groups | O10: Training
N11: Def Tax: | O11: 20% (VAT on Income)
B13: Tip:This area is for the Transaction header values. These are accessed from the under the 'Header' Tab on the Tags Pane --->
C14: Tip:You should watch the training video, also available using the [Help] button, which explains all...
B16: Tip:The cursor can be made to follow a path by going into [setup], 'Lookup' tab and recording the cell movement.
B17: Tip:Tags beginning with 'TH' can put in this header section, for single transactions.
C18: Or placed in row 28 to specify in data rows.
B19: The data below can be imported from file [setup] >> File Import tab.
B24: Tip:Unwanted rows can be hiddden, or grouped, use help to find the topic on this
B25: So grouping can hide the Tags in row 28. Putting and 'X' in row 26 will cause the column to be cleared when [Clear] button is pressed. Any other value is copied down the sheet, including formula.
A27: x | B27: x | C27: x | D27: 0 | E27: X | F27: 0
A28: TLPosted | B28: TLItem^ | C28: TLDesc | D28: TLQty^ | E28: TLUnitPrice^ | F28: TLDiscPerc^
A29: Status DBL | B29: Item DBL | C29: Description | D29: Qty | E29: Unit Price | F29: Disc %
B30: TSL - Black | C30: Company Branded T-Shirt Large Black. Check out our website for other offers! | D30: 2 | E30: 40
B31: Train-MS | C31: Half day training - Microsoft Office | D31: 1 | E31: 500
C32: 2hrs for waiting | D32: 2 | E32: 50
C33: Thanks for you custom
B40: Tip:Enter start of code and TAB to search for Product code, or SPACE + Words to search for any word in product description

Sheet OrderPad
B2: Transaction Type: | C2: SI, Sales Invoice | E2: Comp Name DBL: | F2: another new customer | G2: <-- Update/Create Contact | J2: AttentionTo: | N2: Status: | O2: SUBMITTED
B3: Date: | C3: =TODAY() -> 46036 | E3: e-Name: | H3: Set in [Setup] defaults | J3: Add: | K3: 1 | N3: Def Sales Acc: | O3: 200, Sales
B4: Contact DBL: | C4: another new customer | J4: Add: | K4: 2 | N4: Def Purchase Acc: | O4: 300, Purchases
B5: Ref: | E5: Outstanding: | J5: Add: | K5: 3
E6: Overdue: | J6: Add: | K6: 4 | N6: Contact ID: | O6: 20a2890e-84c9-4037-ac00-f922850dc778
B7: Add Note: | J7: City: | K7: 5 | N7: Contact No:
B8: Send e-mail: | E8: Total: | F8: =SUM(F30:F3000) -> 240 | J8: Region: | K8: 6 | N8: Acc Code: | O8: Ab01
J9: Postcode: | N9: Post Ref: | O9: INV-0050
B10: Tracking Rep: | J10: Country: | N10: Groups
N11: Def Tax:
B13: Tip:This area is for the Transaction header values. These are accessed from the under the 'Header' Tab on the Tags Pane --->
C14: Tip:You should watch the training video, also available using the [Help] button, which explains all...
B16: Tip:The cursor can be made to follow a path by going into [setup], 'Lookup' tab and recording the cell movement.
B17: Tip:Tags beginning with 'TH' can put in this header section, for single transactions.
C18: Or placed in row 28 to specify in data rows.
B19: The data below can be imported from file [setup] >> File Import tab.
B24: Tip:Unwanted rows can be hiddden, or grouped, use help to find the topic on this
B25: So grouping can hide the Tags in row 28. Putting and 'X' in row 26 will cause the column to be cleared when [Clear] button is pressed. Any other value is copied down the sheet, including formula.
D27: 0 | E27: X | F27: =D27*E27 -> #VALUE!
A28: TLPosted | B28: TLItem^ | C28: TLDesc | D28: TLQty^ | E28: TLUnitPrice^
A29: Status DBL | B29: Item DBL | C29: Description | D29: Qty | E29: Unit Price | F29: Total
B30: TSL - Black | C30: Company Branded T-Shirt Large Black. Check out our website for other offers! | D30: 1 | E30: 40 | F30: =D30*E30 -> 40
B31: TSM - Black | C31: Company Branded T-Shirt Medium Black. Check out our website for other offers! | D31: 2 | E31: 40 | F31: =D31*E31 -> 80
B32: TSS - Black | C32: Company Branded T-Shirt Small Black. Check out our website for other offers! | D32: 3 | E32: 40 | F32: =D32*E32 -> 120
B33: Train-MS | C33: Half day training - Microsoft Office | D33: 4 | F33: =D33*E33 -> 0
C34: 2hrs for waiting | D34: 0 | F34: =D34*E34 -> 0
C35: Thanks for you custom | D35: 0 | F35: =D35*E35 -> 0
D36: 0 | F36: =D36*E36 -> 0
D37: 0 | F37: =D37*E37 -> 0
D38: 0 | F38: =D38*E38 -> 0
D39: 0 | F39: =D39*E39 -> 0
D40: 0 | F40: =D40*E40 -> 0
D41: 0
D42: 0
D43: 0
D44: 0
B45: Tip:Enter start of code and TAB to search for Product code, or SPACE + Words to search for any word in product description | D45: 0
C46: This sheet Skips 0 qty's (Switch in [Setup] window) | D46: 0
D47: 0
D48: 0
...

Sheet OrderPad with Price Bands
B2: Transaction Type: | C2: SI, Sales Invoice | E2: Comp Name DBL: | F2: another new customer | G2: <-- Update/Create Contact | J2: AttentionTo: | N2: Status: | O2: SUBMITTED
B3: Date: | C3: =TODAY() -> 46036 | E3: e-Name: | H3: Set in [Setup] defaults | J3: Add: | K3: 1 | N3: Def Sales Acc: | O3: 200, Sales
B4: Contact DBL: | C4: A new customer | J4: Add: | K4: 2 | N4: Def Purchase Acc: | O4: 300, Purchases
B5: Ref: | E5: Outstanding: | J5: Add: | K5: 3
E6: Overdue: | J6: Add: | K6: 4 | N6: Contact ID:
B7: Add Note: | J7: City: | K7: 5 | N7: Contact No:
B8: Send e-mail: | E8: Total: | F8: =SUM(F30:F2996) -> 0 | J8: Region: | K8: 6 | N8: Acc Code: | O8: Ab01
J9: Postcode: | N9: Post Ref: | O9: INV-0189
B10: Tracking Rep: | E10: Price Band: | F10: 1 | G10: <--- Price Band | J10: Country: | N10: Groups
N11: Def Tax:
B13: Tip:This area is for the Transaction header values. These are accessed from the under the 'Header' Tab on the Tags Pane --->
C14: Tip:You should watch the training video, also available using the [Help] button, which explains all...
B16: Tip:The cursor can be made to follow a path by going into [setup], 'Lookup' tab and recording the cell movement.
B17: Tip:Tags beginning with 'TH' can put in this header section, for single transactions.
C18: Or placed in row 28 to specify in data rows.
B19: The data below can be imported from file [setup] >> File Import tab.
B24: Tip:Unwanted rows can be hiddden, or grouped, use help to find the topic on this
B25: So grouping can hide the Tags in row 28. Putting and 'X' in row 26 will cause the column to be cleared when [Clear] button is pressed. Any other value is copied down the sheet, including formula.
D27: 0 | E27: =VLOOKUP(B27,PriceBands!$C$5:$H$40,'OrderPad with Price Bands'!$F$10+1,FALSE) -> #N/A | F27: =D27*E27 -> #N/A
A28: TLPosted | B28: TLItem^ | C28: TLDesc | D28: TLQty^ | E28: TLUnitPrice
A29: Status DBL | B29: Item DBL | C29: Description | D29: Qty | E29: Unit Price | F29: Total
B30: TSL - Black | C30: Company Branded T-Shirt Large Black. Check out our website for other offers! | D30: 0 | E30: =VLOOKUP(B30,PriceBands!$C$5:$H$40,'OrderPad with Price Bands'!$F$10+1,FALSE) -> 41 | F30: =D30*E30 -> 0
B31: TSM - Black | C31: Company Branded T-Shirt Medium Black. Check out our website for other offers! | D31: 0 | E31: =VLOOKUP(B31,PriceBands!$C$5:$H$40,'OrderPad with Price Bands'!$F$10+1,FALSE) -> 51 | F31: =D31*E31 -> 0
B32: TSS - Black | C32: Company Branded T-Shirt Small Black. Check out our website for other offers! | D32: 0 | E32: =VLOOKUP(B32,PriceBands!$C$5:$H$40,'OrderPad with Price Bands'!$F$10+1,FALSE) -> 61 | F32: =D32*E32 -> 0
B33: GB1-White | C33: Golf balls - white single. Please reorder with code GB1-White | D33: 0 | E33: =VLOOKUP(B33,PriceBands!$C$5:$H$40,'OrderPad with Price Bands'!$F$10+1,FALSE) -> 71 | F33: =D33*E33 -> 0
B34: Train-MS | C34: Half day training - Microsoft Office | D34: 0 | E34: =VLOOKUP(B34,PriceBands!$C$5:$H$40,'OrderPad with Price Bands'!$F$10+1,FALSE) -> 101 | F34: =D34*E34 -> 0
C35: Thanks for you custom | D35: 0
D36: 0
D37: 0
D38: 0
D39: 0
D40: 0
B41: Tip:Enter start of code and TAB to search for Product code, or SPACE + Words to search for any word in product description | D41: 0
C42: This sheet Skips 0 qty's (Switch in [Setup] window) | D42: 0
D43: 0
D44: 0
D45: 0
D46: 0
D47: 0
D48: 0
...

Sheet PriceBands
C4: Price Band | D4: 1 | E4: 2 | F4: 3 | G4: 4 | H4: 5
C5: TSL - Black | D5: 41 | E5: 42 | F5: 43 | G5: 44 | H5: 45
C6: TSM - Black | D6: 51 | E6: 52 | F6: 53 | G6: 54 | H6: 55
C7: TSS - Black | D7: 61 | E7: 62 | F7: 63 | G7: 64 | H7: 65
C8: GB1-White | D8: 71 | E8: 72 | F8: 73 | G8: 74 | H8: 75
C9: Train-MS | D9: 101 | E9: 102 | F9: 103 | G9: 104 | H9: 105

Sheet DataToPaste
D4: Item DBL | E4: Description | F4: Qty | G4: Unit Price
D5: TSL - Black | E5: Company Branded T-Shirt Large Black. Check out our website for other offers! | F5: 2 | G5: 40
D6: Train-MS | E6: Half day training - Microsoft Office | F6: 1 | G6: 500
E7: 2hrs for waiting for the key to get in | F7: 2 | G7: 50
E8: Thanks for you custom
