Workbook

Sheet PostTransSettings
A1: Consolidated XL Test 1 (UK-2026-01) | B1: 1 | C1: Txt: CompanyName
B4: 1 | C4: Txt: MultiPost Comp list
B5: 1 | C5: Txt: MultiPost Post List
A6: X | B6: 1 | C6: Txt: FirstTime
A7: 2-Search by Name match | B7: 1 | C7: Txt: Contact Search
A12: 10000 | B12: 2 | C12: Num: Max Transaction rows
A13: 0a0e13bc-fe0e-40cc-99b2-bfc42bcd846d | B13: 1 | C13: Txt: CompanyPATH
A14: CONS01 | B14: 1 | C14: Txt: CompanyCode
A15: TRUE | B15: 3 | C15: Chk: Write Company name into CuDelName/SuDelName
B17: 1 | C17: Txt: Email-Always CC
A18: Your Order REF | B18: 1 | C18: Txt: Email-Subject
A19: Please find attached your sales order REF | B19: 1 | C19: Txt: Email-Body
B20: 1 | C20: Txt: Default Printer
A23: TRUE | B23: 3 | C23: Chk: Write Company name into Name
A24: TRUE | B24: 3 | C24: Chk: else Write Company name into AttentionTo
A26: 30 | B26: 2 | C26: Num: Data starts at row
B38: 1 | C38: Txt: Printing:Sales Quote Layout
B39: 1 | C39: Txt: Printing:Sales Order Layout
B40: 1 | C40: Txt: Printing:Sales Invoice Layout
B41: 1 | C41: Txt: Printing:Purchase Order Layout
A50: FALSE | B50: 3 | C50: Chk: Don't Delete Row after delete record

Sheet NOM Single 2
B3: Date: | C3: =TODAY() -> 46036 | D3: Credit: | E3: =SUM(E30:E1500) -> 110 | G3: Def Narration: | H3: NO | I3: THTracking1: | J3: South
B4: Narration: | C4: Test Manual Journal | D4: Debit: | E4: =SUM(D30:D1500) -> 110 | G4: Show Cash: | H4: NO | I4: THTracking2:
G5: Acc Desc: | H5: YES
G6: Status: | H6: DRAFT
G9: TaxCode:
B11: Tip:This area is for the Transaction header values. These are accessed from the under the 'Header' Tab on the Tags Pane --->
C12: Tip:You should watch the training video, also available using the [Help] button, which explains all...
B14: Tip:The cursor can be made to follow a path by going into [setup], 'Lookup' tab and recording the cell movement.
B15: Tip:Tags beginning with 'TH' can put in this header section, for single transactions.
C16: Or placed in row 28 to specify in data rows.
B17: The data below can be imported from file [setup] >> File Import tab.
B24: Tip:Unwanted rows can be hiddden, or grouped, use help to find the topic on this
B25: So grouping can hide the Tags in row 28. Putting and 'X' in row 26 will cause the column to be cleared when [Clear] button is pressed. Any other value is copied down the sheet, including formula.
D27: 0 | E27: 0
A28: TLPosted | B28: TLAccCode^ | C28: TLDesc | D28: TLDebit^ | E28: TLCredit^
A29: Status DBL | B29: Acc Code DBL | C29: Description | D29: Debit | E29: Credit
B30: 200, Sales | C30: Line of Text typed in | D30: 110
B31: 300, Purchases | C31: or comes from Account | E31: 50
B32: 310, Cost of Goods Sold | C32: or from the Naration set | E32: 20
B33: 320, Direct Wages | C33: on Header C4 | E33: 30
B34: 270 | C34: Interest Income
B35: 400 | C35: Advertising & Marketing | E35: 10

Sheet Trans Many Company (2)
A1: é
C2: Date: | D2: =TODAY() -> 46036 | F2: This sheet has many transaction types, with multiple lines of Exclusive of Tax (H) * Qty (G)
F3: If Contact is set to read only, Column C could be Account Code if changed in | O3: Status: | P3: DRAFT
G4: [Setup] ‘defaults’ tab controls this | O4: Def Sales Acc: | P4: 200, Sales
F5: Columns are added using the [Tags] button | O5: Def Purchase Acc: | P5: 300, Purchases
O6: ContactID:
O7: Contact No:
O8: Acc Code:
O9: Post Ref: | P9: 25125
F11: Tip:This area is for the Transaction header values. These are accessed from the under the 'Header' Tab on the Tags Pane --->
G12: Tip:You should watch the training video, also available using the [Help] button, which explains all...
F14: Tip:The cursor can be made to follow a path by going into [setup], 'Lookup' tab and recording the cell movement.
F15: Tip:Tags beginning with 'TH' can put in this header section, for single transactions.
G16: Or placed in row 28 to specify in data rows.
F17: The data below can be imported from file [setup] >> File Import tab.
F24: Tip:Unwanted rows can be hiddden, or grouped, use help to find the topic on this
F25: So grouping can hide the Tags in row 28. Putting and 'X' in row 26 will cause the column to be cleared when [Clear] button is pressed. Any other value is copied down the sheet, including formula.
H27: 0 | I27: X
A28: TLPosted | B28: THBefSWCompany^ | C28: THTransType^ | D28: THContact^ | E28: THRef | F28: TLItem^ | G28: TLDesc | H28: TLQty^ | I28: TLUnitPrice^
B29: Company Code | C29: Trans Type DBL | D29: Contact DBL | E29: Ref | F29: Item DBL | G29: Description | H29: Qty | I29: Unit Price
A30: ERROR:An existing contact could not be found using the specified contact details. The contact name field is required to create a new contact. | B30: DEMO01, Demo Company (UK) | C30: SI, Sales Invoice | D30: Coco Cafe | E30: q1 | G30: Service Charge | H30: 1 | I30: 120
B31: COMT01, Comtek Accounts Ltd | C31: SI, Sales Invoice | D31: Bell Labs | E31: q2 | F31: Item5 | G31: Product Item 5 | H31: 4 | I31: 105
B32: DEMO01, Demo Company (UK) | C32: SC, Sales Credit | D32: Bell Labs | E32: Sales Credit 1 | G32: Refund | H32: 1 | I32: 150
B33: COMT01, Comtek Accounts Ltd | C33: PO, Purchase Order | D33: Office Supplies Company | E33: 152152 | G33: Service Charge | H33: 1 | I33: 120

Sheet Trans from File
A1: é
C2: Bank DBL: | D2: 090, Business Bank Account | F2: This sheet has many transaction types, with single lines of Inclusive of Tax amounts (H)
C3: Status: | D3: AUTHORISED | F3: Since a Payment Ref (I) is given PostTrans will treat as with payment
C4: Def Sales Acc: | D4: 200, Sales | F4: If Contact does not Exist then Creates, or updates Existing Contacts (Tag beginning with ‘Co’)
C5: Def Purchase Acc: | D5: 300, Purchases | G5: [Setup] ‘defaults’ tab controls this
F6: Columns are added using the [Tags] button
F7: Press [File] Button to import file
F12: Tip:You should watch the training video, also available using the [Help] button, which explains all...
F16: Or placed in row 28 to specify in data rows.
D27: =VLOOKUP(O27,Lookups!$G$3:$H$12,2,FALSE) -> #N/A | E27: =VLOOKUP(P27,Lookups!$C$3:$D$13,2,FALSE) -> #N/A | G27: X | K27: 0 | N27: x | O27: x | P27: x | Q27: x | R27: x | S27: x | T27: x | U27: x | V27: x | W27: x | X27: x
A28: TLPosted | D28: TLTracking1^ | E28: TLTaxCode^ | G28: THTransDate | H28: THTransType^ | I28: THRef | J28: TLDesc | K28: TLTotIncluOfTax | L28: THPayRef | M28: THContact^ | N28: CoName | Q28: CoAttentionTo | R28: CoAdd1 | S28: CoAdd2 | T28: CoAdd3 | U28: CoAdd4 | V28: CoCity | W28: CoRegion | X28: CoPostalCode^
A29: Status DBL | D29: Tracking1 | E29: Tax Code | G29: Trans Date | H29: Trans Type DBL | I29: Ref | J29: Description | K29: Inc Tax Amount | L29: Payment Ref | M29: Contact DBL | N29: Name DBL | Q29: AttentionTo | R29: AddressLine1 | S29: AddressLine2 | T29: AddressLine3 | U29: AddressLine4 | V29: City | W29: Region | X29: PostalCode
D30: =VLOOKUP(O30,Lookups!$G$3:$H$12,2,FALSE) -> South | E30: =VLOOKUP(P30,Lookups!$C$3:$D$13,2,FALSE) -> 20% (VAT on Income) | G30: 44023 | H30: SI | I30: 426236 | J30: Invoice | K30: 120 | L30: 66666 | M30: BELL01 | N30: Bell Labs | O30: S | P30: 1 | Q30: Jim Smith | R30: 6 the lans | X30: pe132ql
D31: =VLOOKUP(O31,Lookups!$G$3:$H$12,2,FALSE) -> North | E31: =VLOOKUP(P31,Lookups!$C$3:$D$13,2,FALSE) -> 20% (VAT on Income) | G31: 44024 | H31: SI | I31: 36 | J31: Invoice for xxx | K31: 234 | L31: 362367 | M31: PORT02 | N31: Port & Philip Freights | O31: N | P31: 1 | Q31: Corporate Services | R31: 900 Harbourside Drive | V31: Oaktown | X31: OK14 7TN
D32: =VLOOKUP(O32,Lookups!$G$3:$H$12,2,FALSE) -> South | E32: =VLOOKUP(P32,Lookups!$C$3:$D$13,2,FALSE) -> 20% (VAT on Income) | G32: 44025 | H32: SC | I32: 2363 | J32: Credit | K32: 100 | L32: 38384 | M32: BASK01 | N32: Basket Case | O32: S | P32: 1 | R32: Shop 14 Ridgeway Mall | S32: 500 River Road | V32: Pinehaven | X32: PI98 8HV
D33: =VLOOKUP(O33,Lookups!$G$3:$H$12,2,FALSE) -> South | E33: =VLOOKUP(P33,Lookups!$C$3:$D$13,2,FALSE) -> Exempt Income | G33: 44026 | H33: SI | I33: 233623623 | J33: Invoice Blar Blar | K33: 120 | L33: 248434 | M33: TRUX01 | N33: Truxton Property Management | O33: S | P33: 0
K34: 0
K35: 0
K36: 0
K37: 0
K38: 0
K39: 0
K40: 0
K41: 0
K42: 0
D43: =VLOOKUP(O43,Lookups!$G$3:$H$12,2,FALSE) -> #N/A | E43: =VLOOKUP(P43,Lookups!$C$3:$D$13,2,FALSE) -> Exempt Income | K43: 0
D44: =VLOOKUP(O44,Lookups!$G$3:$H$12,2,FALSE) -> #N/A | E44: =VLOOKUP(P44,Lookups!$C$3:$D$13,2,FALSE) -> Exempt Income | K44: 0
D45: =VLOOKUP(O45,Lookups!$G$3:$H$12,2,FALSE) -> #N/A | E45: =VLOOKUP(P45,Lookups!$C$3:$D$13,2,FALSE) -> Exempt Income | K45: 0
D46: =VLOOKUP(O46,Lookups!$G$3:$H$12,2,FALSE) -> #N/A | E46: =VLOOKUP(P46,Lookups!$C$3:$D$13,2,FALSE) -> Exempt Income | K46: 0
D47: =VLOOKUP(O47,Lookups!$G$3:$H$12,2,FALSE) -> #N/A | E47: =VLOOKUP(P47,Lookups!$C$3:$D$13,2,FALSE) -> Exempt Income | K47: 0
D48: =VLOOKUP(O48,Lookups!$G$3:$H$12,2,FALSE) -> #N/A | E48: =VLOOKUP(P48,Lookups!$C$3:$D$13,2,FALSE) -> Exempt Income | K48: 0
D49: =VLOOKUP(O49,Lookups!$G$3:$H$12,2,FALSE) -> #N/A | E49: =VLOOKUP(P49,Lookups!$C$3:$D$13,2,FALSE) -> Exempt Income | K49: 0
D50: =VLOOKUP(O50,Lookups!$G$3:$H$12,2,FALSE) -> #N/A | E50: =VLOOKUP(P50,Lookups!$C$3:$D$13,2,FALSE) -> Exempt Income | K50: 0
D51: =VLOOKUP(O51,Lookups!$G$3:$H$12,2,FALSE) -> #N/A | E51: =VLOOKUP(P51,Lookups!$C$3:$D$13,2,FALSE) -> Exempt Income | K51: 0
D52: =VLOOKUP(O52,Lookups!$G$3:$H$12,2,FALSE) -> #N/A | E52: =VLOOKUP(P52,Lookups!$C$3:$D$13,2,FALSE) -> Exempt Income | K52: 0
D53: =VLOOKUP(O53,Lookups!$G$3:$H$12,2,FALSE) -> #N/A | E53: =VLOOKUP(P53,Lookups!$C$3:$D$13,2,FALSE) -> Exempt Income | K53: 0
D54: =VLOOKUP(O54,Lookups!$G$3:$H$12,2,FALSE) -> #N/A | E54: =VLOOKUP(P54,Lookups!$C$3:$D$13,2,FALSE) -> Exempt Income | K54: 0
... D9991: =VLOOKUP(O9991,Lookups!$G$3:$H$12,2,FALSE) -> #N/A | E9991: =VLOOKUP(P9991,Lookups!$C$3:$D$13,2,FALSE) -> Exempt Income | K9991: 0

Sheet Lookups
C3: 0 | D3: Exempt Income | G3: N | H3: North
C4: 1 | D4: 20% (VAT on Income) | G4: S | H4: South

Sheet Tax
H5: Purch | J5: Sales
D6: TaxType | E6: Name | F6: CanApplyToAssets | G6: CanApplyToEquity | H6: CanApplyToExpenses | I6: CanApplyToLiabilities | J6: CanApplyToRevenue | K6: DisplayTaxRate | L6: EffectiveRate | M6: Status | N6: TaxComponents
D7: INPUT2 | E7: 20% (VAT on Expenses) | F7: TRUE | G7: TRUE | H7: TRUE | I7: TRUE | J7: FALSE | K7: 20 | L7: 20 | M7: ACTIVE | N7: VAT ##0.00
D8: OUTPUT2 | E8: 20% (VAT on Income) | F8: TRUE | G8: TRUE | H8: FALSE | I8: TRUE | J8: TRUE | K8: 20 | L8: 20 | M8: ACTIVE | N8: VAT ##0.00
D9: RRINPUT | E9: 5% (VAT on Expenses) | F9: TRUE | G9: TRUE | H9: TRUE | I9: TRUE | J9: FALSE | K9: 5 | L9: 5 | M9: ACTIVE | N9: VAT ##0.00
D10: RROUTPUT | E10: 5% (VAT on Income) | F10: TRUE | G10: TRUE | H10: FALSE | I10: TRUE | J10: TRUE | K10: 5 | L10: 5 | M10: ACTIVE | N10: VAT ##0.00
D11: ECACQUISITIONS | E11: EC Acquisitions (20%) | F11: TRUE | G11: TRUE | H11: TRUE | I11: TRUE | J11: FALSE | K11: 0 | L11: 0 | M11: ACTIVE | N11: VAT ##0.00
D12: ECZRACQUISITIONS | E12: EC Acquisitions (Zero Rated) | F12: TRUE | G12: TRUE | H12: TRUE | I12: TRUE | J12: FALSE | K12: 0 | L12: 0 | M12: ACTIVE | N12: VAT ##0.00
D13: EXEMPTINPUT | E13: Exempt Expenses | F13: TRUE | G13: TRUE | H13: TRUE | I13: TRUE | J13: FALSE | K13: 0 | L13: 0 | M13: ACTIVE | N13: VAT ##0.00
D14: EXEMPTOUTPUT | E14: Exempt Income | F14: TRUE | G14: TRUE | H14: FALSE | I14: TRUE | J14: TRUE | K14: 0 | L14: 0 | M14: ACTIVE | N14: VAT ##0.00
D15: NONE | E15: No VAT | F15: TRUE | G15: TRUE | H15: TRUE | I15: TRUE | J15: TRUE | K15: 0 | L15: 0 | M15: ACTIVE | N15: VAT ##0.00
D16: REVERSECHARGES | E16: Reverse Charge Expenses (20%) | F16: TRUE | G16: TRUE | H16: TRUE | I16: TRUE | J16: FALSE | K16: 0 | L16: 0 | M16: ACTIVE | N16: VAT ##0.00
D17: GSTONIMPORTS | E17: VAT on Imports | F17: FALSE | G17: FALSE | H17: FALSE | I17: TRUE | J17: FALSE | K17: 0 | L17: 0 | M17: ACTIVE | N17: VAT ##0.00
D18: ECZRINPUT | E18: Zero Rated EC Expenses | F18: TRUE | G18: TRUE | H18: TRUE | I18: TRUE | J18: FALSE | K18: 0 | L18: 0 | M18: ACTIVE | N18: VAT ##0.00
... D22: ZERORATEDOUTPUT | E22: Zero Rated Income | F22: TRUE | G22: TRUE | H22: FALSE | I22: TRUE | J22: TRUE | K22: 0 | L22: 0 | M22: ACTIVE | N22: VAT ##0.00
F26: Item0 | G26: Item5 | H26: Item20 | I26: ItemExempt
E27: Manual Line | F27: No VAT | G27: 0.05 | H27: 0.2 | I27: Exempt
D28: Test1 20% | E28: 20 | F28: No VAT | G28: 5 | H28: 20 | I28: Exempt
D29: Test2 5% | E29: 5 | F29: 5 | G29: 5 | H29: 5 | I29: 5
D30: Test3 Exempt Income | E30: Exempt | F30: Exempt | G30: Exempt | H30: Exempt | I30: Exempt
D31: Test4 Zero Rated EC Goods Income | E31: Zero | F31: Zero | G31: Zero | H31: Zero | I31: Zero

Sheet NOM
C3: Date: | D3: =TODAY() -> 46036 | E3: Credit: | F3: =SUM(F30:F1500) -> 100 | H3: Def Narration: | I3: NO | J3: THTracking1: | K3: South
C4: Narration: | D4: Test Manual Journal | E4: Debit: | F4: =SUM(E30:E1500) -> 100 | H4: Show Cash: | I4: NO | J4: THTracking2:
H5: Acc Desc: | I5: YES
H6: Status: | I6: DRAFT
B11: Tip:This area is for the Transaction header values. These are accessed from the under the 'Header' Tab on the Tags Pane --->
C12: Tip:You should watch the training video, also available using the [Help] button, which explains all...
B14: Tip:The cursor can be made to follow a path by going into [setup], 'Lookup' tab and recording the cell movement.
B15: Tip:Tags beginning with 'TH' can put in this header section, for single transactions.
C16: Or placed in row 28 to specify in data rows.
B17: The data below can be imported from file [setup] >> File Import tab.
B24: Tip:Unwanted rows can be hiddden, or grouped, use help to find the topic on this
B25: So grouping can hide the Tags in row 28. Putting and 'X' in row 26 will cause the column to be cleared when [Clear] button is pressed. Any other value is copied down the sheet, including formula.
E27: 0 | F27: 0
A28: TLPosted | B28: TLAccCode^ | C28: TLDesc | D28: TLTaxCode^ | E28: TLDebit^ | F28: TLCredit^ | G28: TLTracking1^
A29: Status | B29: Acc Code | C29: Description | D29: TaxCode | E29: Debit | F29: Credit | G29: Tracking1
B30: 200, Sales | C30: Test Manual Journal | D30: 20% (VAT on Income) | E30: 100 | G30: North
B31: 300, Purchases | C31: Test Manual Journal | D31: 20% (VAT on Expenses) | F31: 50 | G31: West Coast
B32: 310, Cost of Goods Sold | C32: Test Manual Journal | D32: 20% (VAT on Expenses) | F32: 20
B33: 320, Direct Wages | C33: Test Manual Journal | D33: No VAT | F33: 30

Sheet Account
A1: xeroAccount | B1: AcCRC | C1: AcDelete | D1: AcFindCode^ | E1: AcCode | F1: AcType^ | G1: AcName | H1: AcDesc | I1: AcTaxCode^ | J1: AcAllowPayments^ | K1: AcShowOnDash^ | L1: AcShowExpenses^ | M1: AcBankType^ | N1: AcBankNo | O1: AcCurCode^
A2: Filter Row:
A3: Status | B3: CRC | C3: Del? | D3: FindBy Code | E3: Code | F3: Account Type | G3: Name | H3: Description | I3: TaxCode | J3: AllowPayments | K3: ShowOnDash | L3: ShowExpenses | M3: BankType | N3: BankNo | O3: CurCode
B4: _0137763 | E4: 200 | F4: REVENUE | G4: Sales | H4: Income from any normal business activity | I4: 20% (VAT on Income) | K4: YES
B5: _0148764 | E5: 260 | F5: REVENUE | G5: Other Revenue | H5: Any other income that does not relate to normal business activity and is not recurring | I5: 20% (VAT on Income)
B6: _013373 | E6: 270 | F6: REVENUE | G6: Interest Income | H6: Gross interest income | I6: No VAT
B7: _0154047 | E7: 205 | F7: REVENUE | G7: Sales North | H7: Income from any normal business activity | I7: 20% (VAT on Income)
B8: _0134055 | E8: 210 | F8: REVENUE | G8: Sales South | H8: Income from any normal business activity | I8: 20% (VAT on Income)
A9: POSTED | B9: _0135748 | E9: 300 | F9: DIRECTCOSTS | G9: Purchases | H9: Goods purchased with the intention of selling these to customers | I9: 20% (VAT on Expenses)

Sheet Item
A1: xeroItem | B1: ItCRC | C1: ItDelete | D1: ItFindCode^ | E1: ItCode | F1: ItName | G1: ItTrackItem^ | H1: ItPurThis^ | I1: ItPurUnitPrice | J1: ItPurAccNo^ | K1: ItInventoryAccNo^ | L1: ItPurTaxCode^ | M1: ItPurDesc | N1: ItSalThis^ | O1: ItSalUnitPrice | P1: ItSalAccNo^ | Q1: ItSalTaxCode^ | R1: ItSalDesc
A2: Filter Row:
A3: Status | B3: CRC | C3: Del? | D3: FindBy Code | E3: Code | F3: Name | G3: Track This | H3: Purch This | I3: Purch Unit Price | J3: Purch AccNo | K3: Purch AccNo | L3: Purch TaxCode | M3: Purch Desc | N3: Sell This | O3: Sales Unit Price | P3: Sales Acc No | Q3: Sales Tax Code | R3: Sales Desc
A4: UPDATED | B4: _013709 | E4: BOOK | F4: Fish out of Water: Finding Your Brand | H4: YES | I4: 15.95 | J4: 300, Purchases | L4: 20% (VAT on Expenses) | M4: Fish out of Water: Finding Your Brand | N4: YES | O4: 19.95 | P4: 200, Sales | Q4: 20% (VAT on Income) | R4: Fish out of Water: Finding Your Brand
A5: UPDATED | B5: _0148678 | E5: GB1-White | F5: Golf balls - white single | H5: YES | I5: 4.2 | J5: 300, Purchases | L5: 20% (VAT on Expenses) | M5: Golf balls - white single. Wholesale catalog item #020812-1 | N5: YES | O5: 5.6 | P5: 200, Sales | Q5: 20% (VAT on Income) | R5: Golf balls - white single. Please reorder with code GB1-White
A6: UPDATED | B6: _0116876 | E6: GB3-White | F6: Golf balls - white 3-pack | H6: YES | I6: 12 | J6: 300, Purchases | L6: 20% (VAT on Expenses) | M6: Golf balls - white 3 pack. Wholesale catalog item #020812-3 | N6: YES | O6: 15 | P6: 200, Sales | Q6: 20% (VAT on Income) | R6: Golf balls - white 3 pack. Please reorder with code GB3-White
A7: UPDATED | B7: _013311 | E7: GB6-White | F7: Golf balls - white 6-packweq | H7: YES | I7: 20 | J7: 300, Purchases | L7: 20% (VAT on Expenses) | M7: Golf balls - white 6 pack. Wholesale catalog item #020812-6 | N7: YES | O7: 24.99 | P7: 200, Sales | Q7: 20% (VAT on Income) | R7: Golf balls - white 6 pack. Please reorder with code GB6-White
A8: UPDATED | B8: _0122353 | E8: GB9-White | F8: Golf balls - white 9 pack | H8: YES | I8: 25 | J8: 300, Purchases | L8: 20% (VAT on Expenses) | M8: Golf balls - white 9 pack. Wholesale catalog item #020812-9 | N8: YES | O8: 32 | P8: 200, Sales | Q8: 20% (VAT on Income) | R8: Golf balls - white - 9 pack. Please reorder with code GB9-White
B9: _0118778 | E9: Item0 | F9: Item0 | G9: YES | H9: YES | I9: 20 | J9: 310, Cost of Goods Sold | K9: 630, Inventory | L9: No VAT | M9: Company Branded T-Shirt Small Black. Order code #2308 | N9: YES | O9: 40 | P9: 200, Sales | Q9: No VAT | R9: Company Branded T-Shirt Small Black. Check out our website for other offers!
B10: _0140745 | E10: Item20 | F10: Item20 | G10: YES | H10: YES | I10: 20 | J10: 310, Cost of Goods Sold | K10: 630, Inventory | L10: 20% (VAT on Expenses) | M10: Company Branded T-Shirt Small Black. Order code #2308 | N10: YES | O10: 40 | P10: 200, Sales | Q10: 20% (VAT on Income) | R10: Company Branded T-Shirt Small Black. Check out our website for other offers!
B11: _0149573 | E11: Item5 | F11: Item5 | G11: YES | H11: YES | I11: 20 | J11: 310, Cost of Goods Sold | K11: 630, Inventory | L11: 5% (VAT on Expenses) | M11: Company Branded T-Shirt Small Black. Order code #2308 | N11: YES | O11: 40 | P11: 200, Sales | Q11: 5% (VAT on Income) | R11: Company Branded T-Shirt Small Black. Check out our website for other offers!
B12: _0120539 | E12: ItemExempt | F12: ItemExempt | G12: YES | H12: YES | I12: 20 | J12: 310, Cost of Goods Sold | K12: 630, Inventory | L12: Exempt Expenses | M12: Company Branded T-Shirt Small Black. Order code #2308 | N12: YES | O12: 40 | P12: 200, Sales | Q12: Exempt Income | R12: Company Branded T-Shirt Small Black. Check out our website for other offers!
B13: _0165510 | E13: PM-BR | F13: Project management & implementation - branding | H13: YES | I13: 0 | M13: Project management & implementation - branding workshop with your team | N13: YES | O13: 250 | P13: 200, Sales | Q13: 20% (VAT on Income) | R13: Project management & implementation - branding workshop with your team
B14: _0111849 | E14: Support-M | F14: Desktop/network support via email & phone | H14: YES | I14: 0 | M14: Desktop/network support via email & phone.Per month fixed fee for minimum 20 hours/month. | N14: YES | O14: 541.25 | P14: 200, Sales | Q14: 20% (VAT on Income) | R14: Desktop/network support via email & phone.Per month fixed fee for minimum 20 hours/month.
B15: _0141085 | E15: Train-MS | F15: Half day training - Microsoft Office | H15: YES | I15: 0 | M15: Half day training - Microsoft Office | N15: YES | O15: 500 | P15: 200, Sales | Q15: 20% (VAT on Income) | R15: Half day training - Microsoft Office
B16: _0153584 | E16: TSL - Black | F16: T-Shirt Large Black | G16: YES | H16: YES | I16: 20 | J16: 310, Cost of Goods Sold | K16: 630, Inventory | L16: No VAT | M16: Company Branded T-Shirt Large Black. Order Code #2412 | N16: YES | O16: 40 | P16: 200, Sales | Q16: 20% (VAT on Income) | R16: Company Branded T-Shirt Large Black. Check out our website for other offers!
B17: _0135273 | E17: TSM - Black | F17: T-Shirt Medium Black | G17: YES | H17: YES | I17: 20 | J17: 310, Cost of Goods Sold | K17: 630, Inventory | L17: No VAT | M17: Company Branded T-Shirt Medium Black. Order code #2382 | N17: YES | O17: 40 | P17: 200, Sales | Q17: 20% (VAT on Income) | R17: Company Branded T-Shirt Medium Black. Check out our website for other offers!
B18: _0151627 | E18: TSS - Black | F18: T-Shirt Small Black | G18: YES | H18: YES | I18: 20 | J18: 310, Cost of Goods Sold | K18: 630, Inventory | L18: No VAT | M18: Company Branded T-Shirt Small Black. Order code #2308 | N18: YES | O18: 40 | P18: 200, Sales | Q18: 20% (VAT on Income) | R18: Company Branded T-Shirt Small Black. Check out our website for other offers!

Sheet Contacts
A1: xeroContact | B1: CoCRC | C1: CoDelete | D1: CoFindAcc^ | E1: CoFindName^ | F1: CoID | G1: CoAccNo | H1: CoContactNo | I1: CoIsCustomer^ | J1: CoContGrp1^ | K1: CoContGrp2^ | L1: CoContGrp3^ | M1: CoSaDueDay | N1: CoSaDueType^ | O1: CoPuDueDay | P1: CoPuDueType^ | Q1: CoIsSupplier^ | R1: CoName | S1: CoInvTheme^ | T1: CoBankAccNo | U1: CoBankAccName | V1: CoBankDetails | W1: CoBankCode | X1: CoBankRef | Y1: CoCurrency^ | Z1: CoTaxRegNo | AA1: CoFirstName | AB1: CoLastName | AC1: CoEmail | AD1: CoCunCode | AE1: CoArea | AF1: CoNo | AG1: CoDDICunCode | AH1: CoDDIArea | AI1: CoDDINo | AJ1: CoFAXCunCode | AK1: CoFAXArea | AL1: CoFAXNo | AM1: CoMOBCunCode | AN1: CoMOBArea | AO1: CoMOBNo | AP1: CoSkype | AQ1: CoWebSite | AR1: CoAttenTo | AS1: CoAdd1 | AT1: CoAdd2 | AU1: CoAdd3 | AV1: CoAdd4 | AW1: CoCity | AX1: CoRegion | AY1: CoPostZip^ | AZ1: CoCountry | BA1: CoSalTaxCode^ | BB1: CoSalAccNo^ | BC1: CoSalTrack1^ | BD1: CoSalTrack2^ | BE1: CoPurTaxCode^ | BF1: CoPurAccNo^ | BG1: CoPurTrack1^ | BH1: CoPurTrack2^ | BJ1: CoFirstName1 | BK1: CoLastName1 | BL1: CoEmail1 | BM1: CoIncEmails1^ | BN1: CoFirstName2 | BO1: CoLastName2 | BP1: CoEmail2 | BQ1: CoIncEmails2^ | BR1: CoFirstName3 | BS1: CoLastName3 | BT1: CoEmail3 | BU1: CoIncEmails3^ | BV1: CoFirstName4 | BW1: CoLastName4 | BX1: CoEmail4 | BY1: CoIncEmails4^ | BZ1: CoFirstName5 | CA1: CoLastName5 | CB1: CoEmail5 | CC1: CoIncEmails5^ | CD1: CoStAttenTo | CE1: CoStAdd1 | CF1: CoStAdd2 | CG1: CoStAdd3 | CH1: CoStAdd4 | CI1: CoStCity | CJ1: CoStRegion | CK1: CoStPostZip^ | CL1: CoStCountry
A2: Filter Row:
A3: Status | B3: CRC | C3: Del? | D3: FindBy AccCode | E3: FindBy Name | F3: ID | G3: AccNo | H3: ContactNo | I3: IsCustomer | J3: ContGrp1 | K3: ContGrp2 | L3: ContGrp3 | M3: SaDueDay | N3: SaDueType | O3: PuDueDay | P3: PuDueType | Q3: IsSupplier | R3: Name | S3: InvTheme | T3: BankAccNo | U3: BankAccName | V3: Bank Details | W3: Bank Code | X3: Bank Ref | Y3: Currency | Z3: TaxRegNo | AA3: FirstName | AB3: LastName | AC3: Email | AD3: CunCode | AE3: Area | AF3: No | AG3: DDICunCode | AH3: DDIArea | AI3: DDINo | AJ3: FAXCunCode | AK3: FAXArea | AL3: FAXNo | AM3: MOBCunCode | AN3: MOBArea | AO3: MOBNo | AP3: Skype | AQ3: WebSite | AR3: AttenTo | AS3: Add1 | AT3: Add2 | AU3: Add3 | AV3: Add4 | AW3: City | AX3: Region | AY3: PostZip | AZ3: Country | BA3: Sales TaxCode | BB3: TradeContact | BC3: Sales Tracking1 | BD3: Sales Tracking2 | BE3: PuTaxType | BF3: PuAccNo | BG3: Pur Tracking1 | BH3: Pur Tracking2 | BI3: InvTheme | BJ3: FirstName1 | BK3: LastName1 | BL3: Email1 | BM3: IncEmails1 | BN3: FirstName2 | BO3: LastName2 | BP3: Email2 | BQ3: IncEmails2 | BR3: FirstName3 | BS3: LastName3 | BT3: Email3 | BU3: IncEmails3 | BV3: FirstName4 | BW3: LastName4 | BX3: Email4 | BY3: IncEmails4 | BZ3: FirstName5 | CA3: LastName5 | CB3: Email5 | CC3: IncEmails5 | CD3: StAttenTo | CE3: StAdd1 | CF3: StAdd2 | CG3: StAdd3 | CH3: StAdd4 | CI3: StCity | CJ3: StRegion | CK3: StPostZip | CL3: StCountry
B4: _0148452 | F4: 97419eeb-93c9-4cb4-84ca-8029f9ee709e | H4: 314da31fc851aeb02cc53e4ea2b03a0dc701bd441ab1878568 | R4: Sam Smith | AA4: Sam | AB4: Smith | AC4: samsmith@comtekaccounts.com
B5: _0111010 | F5: 7c0ba3da-3910-408f-bd35-5de47bcad9cc | G5: TEST02 | I5: YES | R5: Test2 | BA5: 5% (VAT on Income) | BE5: 5% (VAT on Expenses) | BI5: Special projects, Special projects INVOICE
B6: _0129642 | F6: 3906f8e3-d86e-47b1-b7b2-367472bfe61d | G6: TEST03 | I6: YES | R6: Test3 | BA6: Exempt Income | BE6: Exempt Expenses | BI6: Special projects
B7: _01374 | F7: 27172128-314c-4ca8-a198-cf2d879c072f | G7: TEST04 | I7: YES | R7: Test4 | BA7: Zero Rated EC Goods Income | BE7: Zero Rated EC Expenses
B8: _01973 | F8: adf801de-a142-4670-906f-0d46c5d7c693 | R8: Gable Print
B9: _011039 | F9: 74ea95ea-6e1e-435d-9c30-0dff8ae1bd80 | Q9: YES | R9: Office Supplies Company
B10: _0123218 | F10: bc446de5-971e-48b5-8efd-1745149844ef | R10: Wilson Periodicals | Y10: GBP, British Pound
B11: _0120202 | F11: 289373e2-745c-4743-8b58-3008351f83dd | R11: Fulton Airport Parking
B12: _0135797 | F12: 2cac4876-91fb-4cb7-b969-340aa548f64a | R12: Pret A Manger | Y12: GBP, British Pound
B13: _0115643 | F13: 5a83dcee-ee21-4ee8-b53b-381b93346256 | R13: Brunswick Petals
B14: _0140576 | F14: 737982b0-2811-44c9-bdb3-3b26a3a6ef8c | R14: Ridgeway Bank
B15: _0112256 | F15: f1c18eb1-cdc5-4f11-9867-666cbbc397fe | I15: YES | R15: Coco Cafe
B16: _0152227 | F16: b9d4332a-26a3-4577-8db2-6e830d4b07cd | R16: Berry Brew
B17: _0112564 | F17: 0b787601-82f5-438f-9fb7-7eeb0a09b2a0 | R17: Melrose Parking
B18: _0159402 | F18: c82900a5-064c-46e1-9d8b-86404c6bfd01 | R18: Espresso 31
B19: _0132779 | F19: bab779bc-c5fb-42cb-a888-953e8309711c | I19: YES | R19: 7-Eleven
B20: _0130055 | F20: 4b0dd2ab-7cce-4a8a-8bdb-d49c3e2faf97 | R20: Dimples Warehouse | Y20: GBP, British Pound
B21: _0139157 | F21: be45660b-46fe-412b-9c2e-f667fc5007c3 | R21: Woolworths Market
B22: _0129639 | F22: 4acf731f-af81-4ed3-96b2-0c408b2d98c0 | Q22: YES | R22: Carlton Functions | AE22: 02 | AF22: 9179945
B23: _01451 | F23: f5a77e82-50e3-4340-a6e0-13d6a482a08a | Q23: YES | R23: SMART Agency | AE23: 02 | AF23: 9159889
B24: _015076 | F24: aca6e01a-1815-474c-bd0f-18adfd95cfcb | I24: YES | Q24: YES | R24: Truxton Property Management | AE24: 02 | AF24: 9157357
B25: _0121779 | F25: cf8fa320-a527-496c-823e-22dd069d29e6 | Q25: YES | R25: PC Complete | AE25: 800 | AF25: 322600
B26: _0145836 | F26: 3a0d40a2-2698-4cf5-b7b2-30133c632ab6 | Q26: YES | R26: Swanston Security | AE26: 800 | AF26: 112113
B27: _0134924 | F27: 8a593982-291c-4ec3-9a42-3dbccbc6e3c8 | Q27: YES | R27: MCO Cleaning Services | AE27: 02 | AF27: 5119119
B28: _0144686 | F28: 699f0091-b127-4796-9f15-41a2f42abeb2 | Q28: YES | R28: ABC Furniture | Y28: GBP, British Pound | AA28: Trish | AB28: Rawlings | AC28: info@abfl.com | AE28: 800 | AF28: 124578
B29: _0164329 | F29: f559658a-68da-42b1-81ae-42a96b6c6953 | Q29: YES | R29: Gateway Motors | AE29: 800 | AF29: 349227
B30: _019587 | F30: 8894cc85-85c2-4fd2-9eb6-537179d1a12d | Q30: YES | R30: Hoyt Productions | AE30: 02 | AF30: 7411234
B31: _0152460 | F31: dec56ceb-65e9-43b3-ac98-7fe09eb37e31 | Q31: YES | R31: PowerDirect | T31: 34-56-78 901234567 | U31: PowerDirect Holdings | V31: DEMO-UK | AE31: 800 | AF31: 887612 | AK31: 800 | AL31: 887613 | AS31: P O Box 8900 | AT31: Central Mailing Centre | AW31: Oaktown | AY31: OK12 8TN | BE31: 5% (VAT on Expenses)
B32: _0117107 | F32: 3828f379-afa5-4b2a-9000-9c53d75ba1c6 | Q32: YES | R32: Central Copiers | AE32: 800 | AF32: 244844
B33: _0154807 | F33: ac48c67d-3eea-44eb-96b1-9f7a89d9b761 | Q33: YES | R33: Xero | AD33: 0800 | AE33: 438 | AF33: 9376
B34: _0122253 | F34: 1c842b26-90b8-4791-b2d5-a9aea8078aa5 | R34: HMRC
B35: _0165437 | F35: 2dc0ef7c-582f-4542-963b-dbdc069e4819 | Q35: YES | R35: Bayside Wholesale | AE35: 850 | AF35: 55669
B36: _0124188 | F36: 97cc88ca-f89b-41f0-b8b9-e750b6f2f1d9 | Q36: YES | R36: Net Connect | T36: 23-45-67 890123456 | U36: Net Connect Holdings | V36: DEMO-UK | AE36: 800 | AF36: 500998 | AK36: 800 | AL36: 500999 | AS36: P O Box 7900 | AT36: South Mailing Centre | AW36: Oaktown | AY36: OK14 3TN | BE36: 20% (VAT on Expenses)
B37: _0113149 | F37: 51cbbfb0-8dc9-41aa-aad6-eb93b3cc40c6 | Q37: YES | R37: Capital Cab Co | T37: 12-34-56 789012345 | U37: Capital Cab Holdings | V37: DEMO-UK | AE37: 800 | AF37: 235689
A38: POSTED | B38: _0151592 | F38: af0091a9-82ef-4cac-9fd6-22c095ac6a58 | I38: YES | R38: Hamilton Smith Ltd | AC38: info@hsg.co | AE38: 01 | AF38: 2345678 | AS38: 3 Park Street Industrial Village | AW38: Oaktown | AY38: OK13 3TN
A39: POSTED | B39: _0131644 | F39: 362819c9-f285-4d09-ac95-26327863adac | I39: YES | Q39: YES | R39: Bayside Club | S39: Standard | T39: 10-20-30 987654321 | U39: BSA | V39: OIT2-UK | Z39: GB 234567890 | AA39: Bob | AB39: Partridge | AC39: bob.partridge@bayclub.co | AE39: 02 | AF39: 2024455 | AH39: 02 | AI39: 2024418 | AK39: 02 | AL39: 2025566 | AN39: 01 | AO39: 7774455 | AP39: bayside577 | AR39: Club Secretary | AS39: 148 Bay Harbour Road | AW39: Ridge Heights | AX39: Madeupville | AY39: MA12 VL9 | AZ39: United Kingdom | BA39: 20% (VAT on Income) | BE39: 20% (VAT on Expenses) | CD39: Club Secretary | CE39: P O Box 3354 | CF39: South Mailing Centre | CI39: Oaktown | CJ39: Madeupville | CK39: MA12 VL3 | CL39: United Kingdom
A40: POSTED | B40: _013916 | F40: a852a44c-3d8f-4c4b-a628-3a2c2121b9b1 | I40: YES | R40: Bank West | AE40: 02 | AF40: 2023456 | CE40: Procurement Services | CF40: GPO 1234 | CI40: Pinehaven | CK40: PI98 7HV
...
